BEGIN:VCALENDAR
VERSION:2.0
PRODID:-//Red Shamrock Foundation - ECPv6.15.12.2//NONSGML v1.0//EN
CALSCALE:GREGORIAN
METHOD:PUBLISH
X-ORIGINAL-URL:https://redshamrock.org
X-WR-CALDESC:Events for Red Shamrock Foundation
REFRESH-INTERVAL;VALUE=DURATION:PT1H
X-Robots-Tag:noindex
X-PUBLISHED-TTL:PT1H
BEGIN:VTIMEZONE
TZID:UTC
BEGIN:STANDARD
TZOFFSETFROM:+0000
TZOFFSETTO:+0000
TZNAME:UTC
DTSTART:20220101T000000
END:STANDARD
END:VTIMEZONE
BEGIN:VEVENT
DTSTART;TZID=UTC:20250405T090000
DTEND;TZID=UTC:20250405T120000
DTSTAMP:20260423T211912
CREATED:20241126T142329Z
LAST-MODIFIED:20241126T142329Z
UID:1281-1743843600-1743854400@redshamrock.org
SUMMARY:Red Shamrock Trail Challenge 2025
DESCRIPTION:This is the 14th annual Team Red Shamrock Trail Challenge to benefit Red Shamrock Foundation (RSF). We are returning again to Coralville Creekside Park with a 5K and 10 mile distance. 5K awards ceremony will begin around 10:00 AM and the 10 mile awards will start around 11:15. We would like 10 mile participants to finish within 2 1/2 hours but we will not pull anyone from the course.
URL:https://redshamrock.org/event/red-shamrock-trail-challenge-2025/
LOCATION:3550 340th st\, coralville\, IA 52241\, 3550 340th St.\, Coralville\, 52241\, United States
CATEGORIES:Trail Challenge
END:VEVENT
BEGIN:VEVENT
DTSTART;TZID=UTC:20230401T090000
DTEND;TZID=UTC:20230401T120000
DTSTAMP:20260423T211912
CREATED:20221212T143346Z
LAST-MODIFIED:20221212T143346Z
UID:1247-1680339600-1680350400@redshamrock.org
SUMMARY:Red Shamrock Trail Challenge
DESCRIPTION:This is the 12th annual Team Red Shamrock Trail Challenge to benefit Red Shamrock Foundation (RSF). The race was previously held in Hickory Hill Park\, Iowa City at the 5k distance. This year we are excited to offer 10 mile and 5K distances at a new location\, starting at the Coralville Creekside Park!
URL:https://redshamrock.org/event/red-shamrock-trail-challenge/
LOCATION:3550 340th st\, coralville\, IA 52241\, 3550 340th St.\, Coralville\, 52241\, United States
CATEGORIES:Trail Challenge
END:VEVENT
END:VCALENDAR